BEGIN:VCALENDAR
VERSION:2.0
PRODID:-//SyracuseArts.net
METHOD:PUBLISH
BEGIN:VEVENT
UID:20260425090418-syracusearts.net
DTSTAMP:20260425T090418Z
DTSTART:20260426T000000Z
DTEND:20260426T020000Z
SUMMARY:Foolproof\nSyracuse University Drama Department\n
LOCATION:Clark Theater, Syracuse Stage, 820 E. Genesee St., Syracuse
DESCRIPTION:For complete information, visit http://syracusearts.net/calendar/event.cfm?PerfID=156026
URL;VALUE=URI:http://syracusearts.net/calendar/event.cfm?PerfID=156026
END:VEVENT
END:VCALENDAR