BEGIN:VCALENDAR
VERSION:2.0
PRODID:-//SyracuseArts.net
METHOD:PUBLISH
BEGIN:VEVENT
UID:20260424100402-syracusearts.net
DTSTAMP:20260424T100402Z
DTSTART:20260507T160000Z
DTEND:20260507T220000Z
SUMMARY:On Love\nBrewer Harris Projects\n
LOCATION:138 Bank Alley (University Building)
DESCRIPTION:For complete information, visit http://syracusearts.net/calendar/event.cfm?PerfID=156012
URL;VALUE=URI:http://syracusearts.net/calendar/event.cfm?PerfID=156012
END:VEVENT
END:VCALENDAR